BEGIN:VCALENDAR
VERSION:2.0
PRODID:-//hacksw/handcal//NONSGML v1.0//EN
CALSCALE:GREGORIAN
X-WR-TIMEZONE:Europe/Berlin
BEGIN:VEVENT
SUMMARY:Recht vielfältig: Praxis-Tipps rund um Bewerbungsunterlagen und Vorstellungsgespräch
DESCRIPTION:für Jura-Studierende
Ob Praktikum\, Referendariat oder Berufseinstieg – die ersten Bewerbungen im juristischen Bereich bringen oft viele Fragen mit sich. Neben formalen Erwartungen gibt es unausgesprochene Regeln\, die gerade für Menschen ohne juristisches Netzwerk schwer zu durchschauen sind. Umso wertvoller ist eine gute Vorbereitung – sowohl für überzeugende Unterlagen als auch für einen souveränen Auftritt im Vorstellungsgespräch. In dieser digitalen Veranstaltung erhältst du praxisnahe Einblicke und konkrete Tipps von drei Expert:innen aus unterschiedlichen Kanzleien\, die alle Kooperationspartner im Recht vielfältig-Projekt sind.
LOCATION:Online
URL:https://civi.arbeiterkind.de/civiremote/event/1093/register
DTSTART:20260129T173000Z
DTEND:20260129T183000Z
DTSTAMP:now
UID:693c81a7bef64
END:VEVENT
END:VCALENDAR