BEGIN:VCALENDAR
VERSION:2.0
PRODID:-//hacksw/handcal//NONSGML v1.0//EN
CALSCALE:GREGORIAN
X-WR-TIMEZONE:Europe/Berlin
BEGIN:VEVENT
SUMMARY:Mit der eigenen Geschichte Mut machen - Fit fürs Ehrenamt bei ArbeiterKind.de in Baden-Württemberg
DESCRIPTION:für Interessierte und Engagierte
Ihr wollt mehr über ArbeiterKind.de erfahren und möchtet lernen\, wie ihr mit eurer Geschichte anderen Mut machen könnt? Dann ist dieser Workshop genau das Richtige für euch! Er bereitet euch optimal darauf vor\, mit eurer Geschichte anderen Mut zu machen\, z.B. bei Schulveranstaltungen. Denn das Erzählen der eigenen (Bildungs-)Geschichte ist ein großer Bestandteil im Ehrenamt bei ArbeiterKind.de und hat große Wirkung auf Ratsuchende und auch auf euch selbst. Zudem habt ihr die Gelegenheit und die Möglichkeit\, dich mit anderen Personen aus der Region auszutauschen.
LOCATION:Online
URL:https://civi.arbeiterkind.de/civiremote/event/1142/register
DTSTART:20260418T080000Z
DTEND:20260418T130000Z
DTSTAMP:now
UID:69de4fcdb81fe
END:VEVENT
END:VCALENDAR