BEGIN:VCALENDAR
VERSION:2.0
PRODID:-//hacksw/handcal//NONSGML v1.0//EN
CALSCALE:GREGORIAN
X-WR-TIMEZONE:Europe/Berlin
BEGIN:VEVENT
SUMMARY:Regelmäßiges Treffen der Gruppe "Gesellschaft Gestalten"
DESCRIPTION:für Interessierte und Engagierte
Du bist interessiert an Studienfächer der Sozial-\, Kunst-\, Politik-\, Kultur- und Gesellschaftswissenschaften? Hast vielleicht selber in einem der Fächer studiert oder studierst noch? Dann weißt du sicher\, dass diese akademische Welt ganz eigene Herausforderungen und Freuden birgt. Komm doch gerne zum offenen Treffen der Gruppe "Gesellschaft Gestalten"\, wir treffen uns regelmäßig und tauschen uns aus.
LOCATION:Online
URL:https://us02web.zoom.us/j/81996339291?pwd=b50O7POcC0JBksq97HjZ2b7pelSUQk.1
DTSTART:20260326T180000Z
DTEND:20260326T190000Z
DTSTAMP:now
UID:699ed25c7f121
END:VEVENT
END:VCALENDAR