BEGIN:VCALENDAR
VERSION:2.0
PRODID:-//hacksw/handcal//NONSGML v1.0//EN
CALSCALE:GREGORIAN
X-WR-TIMEZONE:Europe/Berlin
BEGIN:VEVENT
SUMMARY:Mein Studium- Tipps & Austausch: Themenabend 2: Zeitmanagement und Lernstrategien
DESCRIPTION:für Interessierte und Engagierte
Du fragst dich\, wie du deinen Uni- oder Berufsalltag besser strukturieren kannst? Du siehst einen großen Berg an Aufgaben und Terminen und weißt gar nicht\, wo du anfangen sollst? Du hast das Gefühl\, dass du nichts geschafft hast\, obwohl du den ganzen Nachmittag am Schreibtisch gesessen hast? - Kennst du das und möchtest gerne etwas ändern? Dann bist du in unserem Web-Seminar genau richtig. Freut euch auf Expertentipps und auf einen Best-Practice-Austausch - ihr könnt euch konkrete Ideen abholen oder eigene Erfahrungen teilen und andere inspirieren.
LOCATION:Online
URL:https://civi.arbeiterkind.de/civiremote/event/1107/register
DTSTART:20260511T163000Z
DTEND:20260511T180000Z
DTSTAMP:now
UID:69eb4d449d40f
END:VEVENT
END:VCALENDAR