BEGIN:VCALENDAR
VERSION:2.0
PRODID:-//hacksw/handcal//NONSGML v1.0//EN
CALSCALE:GREGORIAN
X-WR-TIMEZONE:Europe/Berlin
BEGIN:VEVENT
SUMMARY:Mit Absagen umgehen
DESCRIPTION:für Berufseinsteiger:innen
Wenn wir uns bewerben ist die Wahrscheinlichkeit hoch\, eine Absage zu erhalten größer\, als dass wir unsere Traumstelle finden. In dem Workshop werden neben einer kurzen systematischen Betrachtung der möglichen Gründen für Absagen auch Strategien thematisiert\, wie mit Absagen produktiv umgegangen werden kann. Erfahrt\, wie ihr euer Selbstvertrauen stärken könnt\, um Rückschläge als Chance zur persönlichen Weiterentwicklung zu nutzen.
LOCATION:Online
URL:https://civi.arbeiterkind.de/civiremote/event/1158/register
DTSTART:20260521T153000Z
DTEND:20260521T170000Z
DTSTAMP:now
UID:69e8cd43d6290
END:VEVENT
END:VCALENDAR