BEGIN:VCALENDAR
VERSION:2.0
PRODID:-//hacksw/handcal//NONSGML v1.0//EN
CALSCALE:GREGORIAN
X-WR-TIMEZONE:Europe/Berlin
BEGIN:VEVENT
SUMMARY:ArbeiterKind.de-NRW: Regionaltreffen in Bochum
DESCRIPTION:für Interessierte und Engagierte
Wir freuen uns\, euch gemeinsam mit der ArbeiterKind.de-Gruppe Bochum zu unserem diesjährigen Regionaltreffen für Nordrhein-Westfalen in Bochum zu begrüßen. An diesem Tag wollen wir die Community mit unterschiedlichen Menschen und Perspektiven feiern und uns weiter vernetzen. Ehrenamtliche\, egal ob neu dabei oder schon länger aktiv\, Interessierte und Unterstützer:innen sind herzlich eingeladen. Wir teilen unsere Erfahrungen und schmieden gemeinsam Pläne für ArbeiterKind.de in NRW – und laden herzlich dazu ein\, dabei zu sein!
LOCATION:RUB Makerspace\, Suttner-Nobel-Allee 4\, 44803 Bochum
URL:https://civi.arbeiterkind.de/civiremote/event/1141/register
DTSTART:20260509T080000Z
DTEND:20260509T150000Z
DTSTAMP:now
UID:69e657901a065
END:VEVENT
END:VCALENDAR