BEGIN:VCALENDAR
VERSION:2.0
PRODID:-//hacksw/handcal//NONSGML v1.0//EN
CALSCALE:GREGORIAN
X-WR-TIMEZONE:Europe/Berlin
BEGIN:VEVENT
SUMMARY:Engagiere dich bei ArbeiterKind.de in Schleswig-Holstein
DESCRIPTION:für Ehrenamtliche
Wir laden euch herzlich zu unserem Einstiegsworkshop in Kiel ein. Dort erfahrt ihr\, was ArbeiterKind.de macht\, welche Engagementmöglichkeiten es gibt und wie ihr mit eurer eigenen Geschichte andere ermutigen könnt. Der Workshop richtet sich sowohl an Interessierte\, die uns kennenlernen möchten\, als auch an Engagierte\, die schon seit einigen Monaten dabei sind und nun eine gute Basis für ihr weiteres Engagement schaffen wollen.
LOCATION:Alte Mu (Semikolon)\, Lorentzendamm 6-8\, Kiel
URL:https://civi.arbeiterkind.de/civiremote/event/1051/register
DTSTART:20251025T080000Z
DTEND:20251025T140000Z
DTSTAMP:now
UID:68f8d32a5ead3
END:VEVENT
END:VCALENDAR