BEGIN:VCALENDAR
VERSION:2.0
PRODID:-//hacksw/handcal//NONSGML v1.0//EN
CALSCALE:GREGORIAN
X-WR-TIMEZONE:Europe/Berlin
BEGIN:VEVENT
SUMMARY:Tag der Offenen Tür im Berliner Büro
DESCRIPTION:für Interessierte und Engagierte
Juhu wir werden endlich volljährig! Anlässlich des 18. Geburtstags laden wir herzlich zum Tag der offenen Tür ein! Feiert mit uns im Berliner Büro (mit Fahrstuhl)! Katja Urbatsch\, Wolf Dermann und das gesamte Berliner Team freuen sich darauf\, neue und bekannte Gesichter wiederzusehen! Dieser Nachmittag ist eine wunderbare Gelegenheit\, persönliche Geschichten auszutauschen und gemeinsam zu feiern\, was wir bisher erreicht haben! Es sind alle herzlich willkommen: Engagierte\, Interessierte\, Unterstützer:innen oder Kooperationspartner:innen – egal\, ob ganz neu dabei oder schon lange Teil der ArbeiterKind.de-Community. Eine Anmeldung ist nicht erforderlich – spontan vorbeikommen ist perfekt. Es warten schöne Gespräche\, tolle Menschen\, Einblicke in die Community und natürlich leckere Snacks und Getränke.
LOCATION:Obentrautstraße 57\, 10963 Berlin\, 5.Etage
DTSTART:20260507T130000Z
DTEND:20260507T180000Z
DTSTAMP:now
UID:69e66059a3a61
END:VEVENT
END:VCALENDAR