BEGIN:VCALENDAR
VERSION:2.0
PRODID:-//hacksw/handcal//NONSGML v1.0//EN
CALSCALE:GREGORIAN
X-WR-TIMEZONE:Europe/Berlin
BEGIN:VEVENT
SUMMARY:Unternehmertum kennenlernen – Skills\, Psyche\, Finanzen
DESCRIPTION:für Berufseinsteiger:innen
Was braucht es wirklich\, um Unternehmer:in zu werden? Wir sprechen über wichtige Skills\, psychologische Faktoren und den Umgang mit Finanzen – im Dialog\, offen und praxisnah.
Mit dabei ist Sven Volkens\, Inhaber des Tiergesundheitszentrums Pankow. Er wird Einblicke von seinem Weg vom Erstakademiker zum Gründer teilen – und zeigt\, dass Herkunft kein unüberwindbares Hindernis für unternehmerischen Erfolg ist.
LOCATION:Online
URL:https://civi.arbeiterkind.de/civiremote/event/1091/register
DTSTART:20260318T183000Z
DTEND:20260318T200000Z
DTSTAMP:now
UID:6949a5f03a9e9
END:VEVENT
END:VCALENDAR