BEGIN:VCALENDAR
VERSION:2.0
PRODID:-//hacksw/handcal//NONSGML v1.0//EN
CALSCALE:GREGORIAN
X-WR-TIMEZONE:Europe/Berlin
BEGIN:VEVENT
SUMMARY:Als First Gen und Frau die professionelle Rolle erfolgreich meistern: Souverän auftreten – Wirksam kommunizieren mit Marion Knaths
DESCRIPTION:für Interessierte und Engagierte
Wenn ihr lernen wollt\, eure eigene Stärke sichtbar zu machen\, Kommunikationsmuster besser zu verstehen und euch in anspruchsvollen Situationen souverän zu behaupten – ohne euch zu verbiegen –\, dann ist Marion eure Expertin und das eure Veranstaltung! Im Mittelpunkt des Workshops stehen Selbstbewusstsein\, Klarheit und Präsenz.
LOCATION:Online
URL:https://civi.arbeiterkind.de/civiremote/event/1123/register
DTSTART:20260422T160000Z
DTEND:20260422T180000Z
DTSTAMP:now
UID:69b21b7a32e49
END:VEVENT
END:VCALENDAR