BEGIN:VCALENDAR
VERSION:2.0
PRODID:-//hacksw/handcal//NONSGML v1.0//EN
CALSCALE:GREGORIAN
X-WR-TIMEZONE:Europe/Berlin
BEGIN:VEVENT
SUMMARY:1:1-Mentoring bei ArbeiterKind.de
DESCRIPTION:für Interessierte und Engagierte
Dieser Workshop wendet sich an alle\, die sich vorstellen können\, im Rahmen ihres Ehrenamts bei ArbeiterKind.de eine ratsuchende Person zu begleiten und Fragen haben\, z. B. “Wie sieht Mentoring bei ArbeiterKind.de aus?" und "Wie kann ich Mentor:in werden?" Inhaltlich könnt ihr euch unter anderem freuen auf: Meine Rolle und Haltung als Mentor:in\; Wie kommt ein Mentoring zustande\, wie endet es?\; Grenzen des Mentorings sowie Kennenlernen und Austausch mit anderen Engagierten.
LOCATION:Online
URL:https://civi.arbeiterkind.de/civiremote/event/1080/register
DTSTART:20251122T090000Z
DTEND:20251122T130000Z
DTSTAMP:now
UID:68fa0eb2c92dd
END:VEVENT
END:VCALENDAR