BEGIN:VCALENDAR
VERSION:2.0
PRODID:-//hacksw/handcal//NONSGML v1.0//EN
CALSCALE:GREGORIAN
X-WR-TIMEZONE:Europe/Berlin
BEGIN:VEVENT
SUMMARY:Möglichkeiten der Studienfinanzierung Teil 3: Studienfinanzierung – Mehr als BAföG und Stipendien
DESCRIPTION:für Interessierte und Engagierte
Eine stabile Finanzierung des Studiums nimmt einem viele Sorgen ab. In Teil 3 dieser Reihe bekommt ihr einen Überblick über die Möglichkeiten\, sich das Studium jenseits von BAföG und Stipendien zu finanzieren. Wir gehen auch auf das Wohngeld und mehr ein.
LOCATION:Online
URL:https://civi.arbeiterkind.de/civiremote/event/1108/register
DTSTART:20260519T163000Z
DTEND:20260519T180000Z
DTSTAMP:now
UID:69eb4cf7bb27c
END:VEVENT
END:VCALENDAR