BEGIN:VCALENDAR
VERSION:2.0
PRODID:-//hacksw/handcal//NONSGML v1.0//EN
CALSCALE:GREGORIAN
X-WR-TIMEZONE:Europe/Berlin
BEGIN:VEVENT
SUMMARY:Mit der eigenen Geschichte Mut machen - Durchstarten im Ehrenamt bei ArbeiterKind.de Bayern
DESCRIPTION:für Interessierte und Engagierte
Du interessierst dich für Bildungsgerechtigkeit? Du hast Spaß daran\, Ratsuchende zu unterstützen? Du möchtest gerne mit deiner Geschichte anderen Mut machen? Dann sei beim Präsenz-Workshop "Durchstarten im Ehrenamt" in Nürnberg dabei! Du lernst andere Engagierte aus ganz Bayern kennen\, erfährst alles über unsere vielfältigen Engagementbereiche und wir klären direkt deine Fragen.
LOCATION:Caritas-Pirckheimer-Haus\, Königstraße 64\, 90402 Nürnberg
URL:https://civi.arbeiterkind.de/civiremote/event/1145/register
DTSTART:20260425T080000Z
DTEND:20260425T140000Z
DTSTAMP:now
UID:69de45699ee51
END:VEVENT
END:VCALENDAR