BEGIN:VCALENDAR
VERSION:2.0
PRODID:-//hacksw/handcal//NONSGML v1.0//EN
CALSCALE:GREGORIAN
X-WR-TIMEZONE:Europe/Berlin
BEGIN:VEVENT
SUMMARY:Mit der eigenen Geschichte Mut machen – Einstieg ins Ehrenamt bei ArbeiterKind.de in Berlin
DESCRIPTION:für Interessierte und Engagierte
Ihr seid neu im Engagement bei ArbeiterKind.de oder wollt erst noch starten? Ihr habt Lust\, andere Engagierte in Berlin kennenzulernen? Dann seid ihr genau richtig beim Präsenzworkshop "Mit der eigenen Geschichte Mut machen".
In dem Workshop erhaltet ihr alle Infos zum Engagement bei ArbeiterKind.de und wir schauen auf die Rolle als Mutmacher:in bei ArbeiterKind.de. Außerdem könnt ihr euch mit anderen Engagierten in Berlin vernetzen.
Die Veranstaltung ist für euch kostenfrei & wir haben sowohl kleinere als auch eine längere Mittagspause mit genügend Verpflegung eingeplant.
Solltet ihr vorab Fragen haben\, meldet euch gerne direkt bei Susan Bargmann (bargmann@arbeiterkind.de).
LOCATION:Community Space von Bosch Alumni Networks
Linienstraße 65A\, 10119 Berlin
URL:https://civi.arbeiterkind.de/civiremote/event/1096/register
DTSTART:20260207T090000Z
DTEND:20260207T150000Z
DTSTAMP:now
UID:69499a9b16546
END:VEVENT
END:VCALENDAR