BEGIN:VCALENDAR
VERSION:2.0
PRODID:-//hacksw/handcal//NONSGML v1.0//EN
CALSCALE:GREGORIAN
X-WR-TIMEZONE:Europe/Berlin
BEGIN:VEVENT
SUMMARY:Mit der eigenen Geschichte Mut machen
DESCRIPTION:für Interessierte und Engagierte
Du bist noch nicht oder noch nicht so lange bei ArbeiterKind.de in Hamburg engagiert und möchtest mehr zum Ehrenamt erfahren und wissen\, wie du aktiv werden kannst? Dann komm zu unserem Einstiegsworkshop am 15.11. in Hamburg!
Euch erwartet ein inspirierendes Treffen mit vielen Infos rund um das Engagement bei ArbeiterKind.de\, Storytelling-Impulsen und Möglichkeiten zum Erfahrungsaustausch! Gemeinsam erfahren wir\, wie wir andere mit unserer eigenen Geschichte ermutigen können.
LOCATION:Seminarraum im Haus D (Erdgeschoss)\, Evangelische Studierendengemeinde Hamburg\, Grindelallee 43\, 20146 Hamburg
URL:https://civi.arbeiterkind.de/civiremote/event/1081/register
DTSTART:20251115T090000Z
DTEND:20251115T150000Z
DTSTAMP:now
UID:68f9c741845fe
END:VEVENT
END:VCALENDAR