BEGIN:VCALENDAR
VERSION:2.0
PRODID:-//hacksw/handcal//NONSGML v1.0//EN
CALSCALE:GREGORIAN
X-WR-TIMEZONE:Europe/Berlin
BEGIN:VEVENT
SUMMARY:Psychologische Kompetenzen im Beruf: Selbstwirksamkeit
DESCRIPTION:für Berufseinsteiger:innen
Damit die eigene Rolle in einer Organisation selbstbewusst gestaltet werden kann\, sind einige psychologische Kompetenzen nützlich: Selbstakzeptanz\, Selbstwirksamkeit\, Sinnkonstruktion\, Achtsamkeit\, Solidarität und ja\, auch Genussfähigkeit. Der Vortrag zeigt\, wie diese Kompetenzen wirken und wie sie verstärkt werden können.
LOCATION:Online
URL:https://civi.arbeiterkind.de/civiremote/event/1097/register
DTSTART:20260305T170000Z
DTEND:20260305T190000Z
DTSTAMP:now
UID:69499a3a364fd
END:VEVENT
END:VCALENDAR