BEGIN:VCALENDAR
VERSION:2.0
PRODID:-//hacksw/handcal//NONSGML v1.0//EN
CALSCALE:GREGORIAN
X-WR-TIMEZONE:Europe/Berlin
BEGIN:VEVENT
SUMMARY:Austausch und Infoabend -  Engagieren bei ArbeiterKind.de in Cottbus
DESCRIPTION:für Interessierte und Engagierte
Was ist ArbeiterKind.de? Wie kann ich mich in Cottbus engagieren? Auf diese und weitere Fragen zum Engagement gehen wir bei diesem Infoabend ein. Komm doch vorbei!
LOCATION:BTU Cottbus – Hauptgebäude / HG 0.16
DTSTART:20260506T160000Z
DTEND:20260506T170000Z
DTSTAMP:now
UID:69e6578e14ce5
END:VEVENT
END:VCALENDAR