BEGIN:VCALENDAR
VERSION:2.0
PRODID:-//hacksw/handcal//NONSGML v1.0//EN
CALSCALE:GREGORIAN
X-WR-TIMEZONE:Europe/Berlin
BEGIN:VEVENT
SUMMARY:Regionaltreffen in Hamburg
DESCRIPTION:für Ehrenamtliche
Wir laden euch ganz herzlich zum diesjährigen Regionaltreffen in Hamburg ein!

Beim Regionaltreffen habt ihr die Möglichkeit\, andere Engagierte und Unterstützer:innen kennenzulernen oder wiederzusehen\, euch auszutauschen und gemeinsam neue Ideen zu entwickeln.
Herzlich willkommen sind alle – egal ob schon lange aktiv oder ganz neu bei ArbeiterKind.de!

Wir freuen uns schon darauf\, euch wiederzusehen oder persönlich kennenzulernen!
LOCATION:Internationales Bildungszentrum dock europe e.V.\, Bodenstedtstr. 16\, 22765 Hamburg
URL:https://civi.arbeiterkind.de/civiremote/event/1042/register
DTSTART:20250927T080000Z
DTEND:20250927T140000Z
DTSTAMP:now
UID:69043bcfcb1fb
END:VEVENT
END:VCALENDAR