BEGIN:VCALENDAR
VERSION:2.0
PRODID:-//hacksw/handcal//NONSGML v1.0//EN
CALSCALE:GREGORIAN
X-WR-TIMEZONE:Europe/Berlin
BEGIN:VEVENT
SUMMARY:Offenes Online-Treffen der Promotionsgruppe
DESCRIPTION:für Interessierte und Engagierte
Du hast Fragen rund um das Thema Promotion? Z.B zur Betreuer:innen und Themenwahl\, Finanzierung oder Forschungsaufenthalt? Oder du möchtest dich gerne mit Gleichgesinnten zu deiner Promotion austauschen? Gerne unterstützen wir dich in deinen Anliegen und bieten dir Zugang zu einem Netzwerk von tausenden Unterstützer:innen.
Meeting ID: 684 4636 0108
Kennwort: AKPromo
LOCATION:Online
URL:https://tu-darmstadt.zoom-x.de/j/68446360108?pwd=Ybt0tNbZmUkJ9AglkKb8t6c7jXBS6K.1
DTSTART:20260414T160000Z
DTEND:20260414T170000Z
DTSTAMP:now
UID:69de44ef6ccd6
END:VEVENT
END:VCALENDAR