BEGIN:VCALENDAR
VERSION:2.0
PRODID:-//hacksw/handcal//NONSGML v1.0//EN
CALSCALE:GREGORIAN
X-WR-TIMEZONE:Europe/Berlin
BEGIN:VEVENT
SUMMARY:Was verbirgt sich hinter der Arbeit von Anwält:innen im Wirtschaftsstrafrecht / Compliance\, EU-Recht und LAI?
DESCRIPTION:für Jura-Studierende
Anwält:innen der drei Kanzleien A&O Shearman\, Kapellmann und Linklaters berichten aus erster Hand und beantworten eure Fragen rund um Aufgaben\, Spezialisierung und Perspektiven. Wie sieht der Arbeitsalltag in verschiedenen Rechtsgebieten aus? Welche Aufgaben und Herausforderungen erwarten Anwält:innen im Wirtschaftsstrafrecht und der Compliance-Beratung\, bei der Anwendung und Durchsetzung des EU-Rechts sowie im Bereich Litigation\, Arbitration & Investigations (LAI)?? Wer überlegt\, sich auf eines dieser spannenden Gebiete zu spezialisieren\, erhält praxisnahe Einblicke: Welche Fähigkeiten sind gefragt\, welche Mandate prägen den Alltag und welche aktuellen Entwicklungen bewegen die Branche?
LOCATION:Online
URL:https://civi.arbeiterkind.de/civiremote/event/1129/register
DTSTART:20260319T173000Z
DTEND:20260319T183000Z
DTSTAMP:now
UID:69a2462cb9c37
END:VEVENT
END:VCALENDAR