BEGIN:VCALENDAR
VERSION:2.0
PRODID:-//hacksw/handcal//NONSGML v1.0//EN
CALSCALE:GREGORIAN
X-WR-TIMEZONE:Europe/Berlin
BEGIN:VEVENT
SUMMARY:Mit der eigenen Geschichte Mut machen: Einstiegsworkshop für Interessierte und Neu-Engagierte in Thüringen
DESCRIPTION:für Interessierte und Engagierte
Liebe Interessierte\, liebe (Neu-) Engagierte\,
ihr möchtet mehr über ArbeiterKind.de erfahren? Ihr interessiert euch für ein Ehrenamt bei ArbeiterKind.de in Thüringen? Dann ist dieser Workshop genau das Richtige für euch!
Neben vielen Infos rund um ArbeiterKind.de und das Engagement erwartet euch ein inspirierendes Treffen mit Möglichkeiten zum Erfahrungsaustausch und zur Vernetzung online via ZOOM.
Wir freuen uns auf euch!
LOCATION:Online
URL:https://civi.arbeiterkind.de/civiremote/event/1131/register
DTSTART:20260228T090000Z
DTEND:20260228T130000Z
DTSTAMP:now
UID:699f74fabfbaf
END:VEVENT
END:VCALENDAR