BEGIN:VCALENDAR
VERSION:2.0
PRODID:-//hacksw/handcal//NONSGML v1.0//EN
CALSCALE:GREGORIAN
X-WR-TIMEZONE:Europe/Berlin
BEGIN:VEVENT
SUMMARY:Regionaltreffen Schleswig-Holstein in Lübeck
DESCRIPTION:für Interessierte und Engagierte
Eine stabile Finanzierung des Studiums nimmt einem viele Sorgen ab. In Teil 3 dieser Reihe bekommt ihr einen Überblick über die Möglichkeiten\, sich das Studium jenseits von BAföG und Stipendien zu finanzieren. Wir gehen auch auf das Wohngeld und mehr ein. Am 30. Mai treffen wir uns um 10:30 Uhr in den Räumlichkeiten von Sprungtuch e.V. in der Wahmstraße 43-45 in der Lübecker Altstadt und verbringen einen Tag von der Community für die Community und alle\, die es gerne werden möchten. Im Mittelpunkt steht das Kennenlernen und der Austausch miteinander und die Stärkung der (ehrenamtlichen) Arbeit in Schleswig-Holstein. Als besonderes Extra wird es nach dem gemeinsamen Mittagessen eine kleine Stadtführung durch die Altstadt geben\, sodass wir die "alte Arbeiterstadt Lübeck" bei einem Verdauungsspaziergang besser kennenlernen können. Für euch entstehen an diesem Tag natürlich keine Kosten.
LOCATION:Sprungtuch e.V.\, Wahmstraße 43-45 in der Lübecker Altstadt
URL:https://civi.arbeiterkind.de/civiremote/event/1144/register
DTSTART:20260530T083000Z
DTEND:20260530T143000Z
DTSTAMP:now
UID:69ea2fc737ed9
END:VEVENT
END:VCALENDAR