BEGIN:VCALENDAR
VERSION:2.0
PRODID:-//hacksw/handcal//NONSGML v1.0//EN
CALSCALE:GREGORIAN
X-WR-TIMEZONE:Europe/Berlin
BEGIN:VEVENT
SUMMARY:Infoabend: Engagiert bei ArbeiterKind.de
DESCRIPTION:für Interessierte und Engagierte
Was ist ArbeiterKind.de? Wie kann ich mich engagieren? Was ist und wie arbeitet eine lokale ArbeiterKind.de Gruppe? Was sind die ersten Schritte im Engagement bei ArbeiterKind.de? Auf diese und weitere Fragen zum Engagement gehen wir bei diesem grundlegenden Einführungs-Webseminar ein.
LOCATION:Online
URL:https://civi.arbeiterkind.de/civiremote/event/1105/register
DTSTART:20260414T163000Z
DTEND:20260414T180000Z
DTSTAMP:now
UID:69b028c496ea3
END:VEVENT
END:VCALENDAR