BEGIN:VCALENDAR
VERSION:2.0
PRODID:-//hacksw/handcal//NONSGML v1.0//EN
CALSCALE:GREGORIAN
X-WR-TIMEZONE:Europe/Berlin
BEGIN:VEVENT
SUMMARY:Recht vielfältig: Einblick in die Rechtsgebiete - Was verbirgt sich in der Arbeit von Anwält:innen im Gesellschaftsrecht / M&A\, Arbeitsrecht und öffentliches Recht / Vergabe?
DESCRIPTION:für Jura-Studierende
Anwält:innen der drei Kanzleien A&O Shearman\, Kapellmann und Linklaters berichten aus erster Hand und beantworten eure Fragen rund um verschiedene Rechtsgebiete. Wie sieht der Arbeitsalltag in verschiedenen Rechtsgebieten aus? Welche Aufgaben und Herausforderungen erwarten Anwält:innen im Gesellschaftsrecht und bei M&A-Transaktionen\, im Arbeitsrecht oder bei Fragen des öffentlichen Rechts und der Vergabe? Wer überlegt\, sich auf eines dieser spannenden Gebiete zu spezialisieren\, erhält praxisnahe Einblicke: Welche Fähigkeiten sind gefragt\, welche Mandate prägen den Alltag und welche aktuellen Entwicklungen bewegen die Branche?
LOCATION:Online
URL:https://civi.arbeiterkind.de/civiremote/event/1113/register
DTSTART:20260219T173000Z
DTEND:20260219T183000Z
DTSTAMP:now
UID:69669e1ee5495
END:VEVENT
END:VCALENDAR