BEGIN:VCALENDAR
VERSION:2.0
PRODID:-//hacksw/handcal//NONSGML v1.0//EN
CALSCALE:GREGORIAN
X-WR-TIMEZONE:Europe/Berlin
BEGIN:VEVENT
SUMMARY:ArbeiterKind.de feiert: Virtuelle Geburtstagssause
DESCRIPTION:für Interessierte und Engagierte
Anlässlich des 18-jährigen Bestehens von ArbeiterKind.de wollen wir in gemütlicher Atmosphäre virtuell feiern. Freut euch auf einen gemeinsamen Blick auf Entwicklungen und Erfolge\, Einblicke und Neuigkeiten sowie Gemeinschaftsgefühl und vieles mehr. Wir treffen uns hier: 
Meeting-ID: 813 3774 6447
LOCATION:Online
URL:https://us02web.zoom.us/j/81337746447
DTSTART:20260505T110000Z
DTEND:20260505T120000Z
DTSTAMP:now
UID:69e6ecbcd1730
END:VEVENT
END:VCALENDAR