BEGIN:VCALENDAR
VERSION:2.0
PRODID:-//hacksw/handcal//NONSGML v1.0//EN
CALSCALE:GREGORIAN
X-WR-TIMEZONE:Europe/Berlin
BEGIN:VEVENT
SUMMARY:„Mit der eigenen Geschichte Mut machen“ – Einstieg ins Ehrenamt bei ArbeiterKind.de in NRW-West
DESCRIPTION:für Interessierte und Engagierte
Für dein Ehrenamt in Düsseldorf\, Köln\, Bonn\, Neuss\, Krefeld und Aachen: Erfahre mehr über ArbeiterKind.de\, wie du bei uns ehrenamtlich mitmachen kannst und vernetze dich mit anderen Ehrenamtlichen aus der Region. Im Workshop lernst du\, wie du anderen mit deiner eigenen (Bildungs-)Geschichte Mut machen kannst und wir üben Storytelling ganz praktisch. 
Sharepics\, um die Veranstaltung zu bewerben\, findet ihr hier: https://drive.google.com/drive/folders/14dFVuPrBrjI1bjvF0BAl7cviOuJVGmHM
LOCATION:Düsseldorf
URL:https://civi.arbeiterkind.de/civiremote/event/1138/register
DTSTART:20260425T080000Z
DTEND:20260425T150000Z
DTSTAMP:now
UID:69e10814e386b
END:VEVENT
END:VCALENDAR