BEGIN:VCALENDAR
VERSION:2.0
PRODID:-//hacksw/handcal//NONSGML v1.0//EN
CALSCALE:GREGORIAN
X-WR-TIMEZONE:Europe/Berlin
BEGIN:VEVENT
SUMMARY:Regionaltreffen Thüringen in Erfurt
DESCRIPTION:für Interessierte und Engagierte
Wir laden euch ganz herzlich zum diesjährigen Regionaltreffen Thüringen in Erfurt ein!
Beim Regionaltreffen habt ihr die Möglichkeit\, andere Engagierte und Unterstützer:innen aus der Region kennenzulernen oder wiederzusehen. Ihr könnt euch austauschen\, bekommt wertvollen Input und könnt gemeinsam neue Ideen entwickeln!
Herzlich willkommen sind alle Engagierten\, Unterstützer:innen und Freund:innen – also die gesamte ArbeiterKind.de Community in Thüringen. Wir freuen uns schon darauf\, euch wiederzusehen oder persönlich kennenzulernen!
LOCATION:Krämerloft Coworking Space\, Bahnhofstraße 15\, 99084 Erfurt
URL:https://civi.arbeiterkind.de/civiremote/event/1075/register
DTSTART:20251011T080000Z
DTEND:20251011T140000Z
DTSTAMP:now
UID:68efa1c3c53e2
END:VEVENT
END:VCALENDAR